BEGIN:VCALENDAR
VERSION:2.0
PRODID:-//wp-events-plugin.com//7.2.3.1//EN
TZID:Europe/Berlin
X-WR-TIMEZONE:Europe/Berlin
BEGIN:VEVENT
UID:1435@galli-backnang.de
DTSTART;TZID=Europe/Berlin:20260613T200000
DTEND;TZID=Europe/Berlin:20260613T200000
DTSTAMP:20260306T184158Z
URL:https://galli-backnang.de/events/eheurlaub/
SUMMARY:EheUrlaub
DESCRIPTION:Teil 2 der Ehe-Komödien-Trilogie: Ein Tag aus dem EheUrlaub au
 f den Kanarischen Inseln mit dem Ehepaar Wilma und Willi Strunz und einige
 n weiteren Typen\, die für Witz und Abwechslung sorgen...
ATTACH;FMTTYPE=image/jpeg:https://galli-backnang.de/wp-content/uploads/202
 5/02/EheUrlaub_Titelbild_Spielplan_y.jpg
CATEGORIES:Abendtheater,Spielplan
LOCATION:Galli Theater Backnang\, Oelberg 12\, Backnang\, 71522\, Deutschla
 nd
GEO:48.9465508;9.431534300000067
X-APPLE-STRUCTURED-LOCATION;VALUE=URI;X-ADDRESS=Oelberg 12\, Backnang\, 715
 22\, Deutschland;X-APPLE-RADIUS=100;X-TITLE=Galli Theater Backnang:geo:48.
 9465508,9.431534300000067
END:VEVENT
BEGIN:VTIMEZONE
TZID:Europe/Berlin
X-LIC-LOCATION:Europe/Berlin
BEGIN:DAYLIGHT
DTSTART:20260329T030000
TZOFFSETFROM:+0100
TZOFFSETTO:+0200
TZNAME:CEST
END:DAYLIGHT
END:VTIMEZONE
END:VCALENDAR