BEGIN:VCALENDAR
VERSION:2.0
PRODID:-//wp-events-plugin.com//7.2.3.1//EN
TZID:Europe/Berlin
X-WR-TIMEZONE:Europe/Berlin
BEGIN:VEVENT
UID:1434@galli-backnang.de
DTSTART;TZID=Europe/Berlin:20260613T160000
DTEND;TZID=Europe/Berlin:20260613T160000
DTSTAMP:20260306T184034Z
URL:https://galli-backnang.de/events/der-wolf-die-7-geisslein/
SUMMARY:Der Wolf & die 7 Geißlein
DESCRIPTION:Frei nach dem Grimm’schen Märchen: Mutter ist fort und die G
 eißlein rüsten sich\, denn sie dürfen niemanden reinlassen. Schon gar n
 icht den Wolf. Aber der Wolf ist nicht dumm! Er verstellt sich\, und die G
 eschichte nimmt ihren Lauf...
ATTACH;FMTTYPE=image/jpeg:https://galli-backnang.de/wp-content/uploads/201
 8/07/Geißlein_Wolf_1b.jpg
CATEGORIES:Kindertheater,Musik von Michael Summ,Spielplan
LOCATION:Galli Theater Backnang\, Oelberg 12\, Backnang\, 71522\, Deutschla
 nd
GEO:48.9465508;9.431534300000067
X-APPLE-STRUCTURED-LOCATION;VALUE=URI;X-ADDRESS=Oelberg 12\, Backnang\, 715
 22\, Deutschland;X-APPLE-RADIUS=100;X-TITLE=Galli Theater Backnang:geo:48.
 9465508,9.431534300000067
END:VEVENT
BEGIN:VTIMEZONE
TZID:Europe/Berlin
X-LIC-LOCATION:Europe/Berlin
BEGIN:DAYLIGHT
DTSTART:20260329T030000
TZOFFSETFROM:+0100
TZOFFSETTO:+0200
TZNAME:CEST
END:DAYLIGHT
END:VTIMEZONE
END:VCALENDAR